BEGIN:VCALENDAR
VERSION:2.0
PRODID:-//Musikverein Altheim e.V.//NONSGML kigkonsult.se iCalcreator 2.30.
 10//
CALSCALE:GREGORIAN
METHOD:PUBLISH
UID:41da3fd5-05d3-481d-a539-74c87afac0c2
X-WR-CALNAME:iCagenda
X-WR-CALDESC:Event Management Extension for Joomla!
X-WR-RELCALID:3E26604A-50F4-4449-8B3E-E4F4932D05B5
X-WR-TIMEZONE:UTC
BEGIN:VTIMEZONE
TZID:UTC
END:VTIMEZONE
BEGIN:VEVENT
UID:98cefa2e-7ead-4adc-bb47-bc0bae27510b
DTSTAMP:20260420T111006Z
CATEGORIES:Musikverein - Interne Veranstaltung
CLASS:PUBLIC
DESCRIPTION:
DTSTART:20260829T194500Z
DTEND:20260829T224600Z
GEO:00;0
LOCATION:
ORGANIZER:
SEQUENCE:1
SUMMARY:Polterabend
TRANSP:OPAQUE
URL:https://www.musikverein-altheim-bauland.de/index.php/veranstaltungen/89
 -polterabend
END:VEVENT
END:VCALENDAR
